BEGIN:VCALENDAR
VERSION:2.0
PRODID:-//Teen Wise - ECPv6.15.20//NONSGML v1.0//EN
CALSCALE:GREGORIAN
METHOD:PUBLISH
X-WR-CALNAME:Teen Wise
X-ORIGINAL-URL:https://www.teen-wise.com
X-WR-CALDESC:Events for Teen Wise
REFRESH-INTERVAL;VALUE=DURATION:PT1H
X-Robots-Tag:noindex
X-PUBLISHED-TTL:PT1H
BEGIN:VTIMEZONE
TZID:America/Los_Angeles
BEGIN:DAYLIGHT
TZOFFSETFROM:-0800
TZOFFSETTO:-0700
TZNAME:PDT
DTSTART:20240310T100000
END:DAYLIGHT
BEGIN:STANDARD
TZOFFSETFROM:-0700
TZOFFSETTO:-0800
TZNAME:PST
DTSTART:20241103T090000
END:STANDARD
BEGIN:DAYLIGHT
TZOFFSETFROM:-0800
TZOFFSETTO:-0700
TZNAME:PDT
DTSTART:20250309T100000
END:DAYLIGHT
BEGIN:STANDARD
TZOFFSETFROM:-0700
TZOFFSETTO:-0800
TZNAME:PST
DTSTART:20251102T090000
END:STANDARD
BEGIN:DAYLIGHT
TZOFFSETFROM:-0800
TZOFFSETTO:-0700
TZNAME:PDT
DTSTART:20260308T100000
END:DAYLIGHT
BEGIN:STANDARD
TZOFFSETFROM:-0700
TZOFFSETTO:-0800
TZNAME:PST
DTSTART:20261101T090000
END:STANDARD
BEGIN:DAYLIGHT
TZOFFSETFROM:-0800
TZOFFSETTO:-0700
TZNAME:PDT
DTSTART:20270314T100000
END:DAYLIGHT
BEGIN:STANDARD
TZOFFSETFROM:-0700
TZOFFSETTO:-0800
TZNAME:PST
DTSTART:20271107T090000
END:STANDARD
END:VTIMEZONE
BEGIN:VEVENT
DTSTART;TZID=America/Los_Angeles:20260416T180000
DTEND;TZID=America/Los_Angeles:20260416T190000
DTSTAMP:20260423T052722
CREATED:20260413T183435Z
LAST-MODIFIED:20260413T183510Z
UID:7338-1776362400-1776366000@www.teen-wise.com
SUMMARY:The Beliefs Sabotaging her Friendships
DESCRIPTION:Friendship struggles are rarely just about social skills. Often\, what gets in the way lives in a girl’s inner world. Beliefs like “no one likes me\,” “I’m too much\,” or “I’ll always be left out” can quietly shape how she shows up with peers\, affecting her confidence\, behavior\, and how she interprets social situations. \nIn this live 30-minute workshop\, Coach Sheri shares a grounded\, relationship-first approach to understanding the beliefs your daughter carries into her friendships. You’ll learn how to recognize these patterns and respond in ways that support growth without overcorrecting\, over coaching\, or unintentionally reinforcing the belief. \nWe will cover: \n\n\n\n\n\n\n\nCommon limiting beliefs that quietly sabotage teen friendships \n\n\n\n\n\n\nHow beliefs shape behavior\, confidence\, and social interpretation \n\n\n\n\n\n\nWhy reassurance or fixing can sometimes reinforce the belief \n\n\n\n\n\n\nLanguage that helps challenge beliefs without dismissing feelings \n\n\n\n\n\n\nHow your own beliefs can influence how you respond and support \n\n\n\n\n\nRegistration required.
URL:https://www.teen-wise.com/event/belief/
CATEGORIES:Featured Event,Parents
ATTACH;FMTTYPE=image/png:https://www.teen-wise.com/wp-content/uploads/2026/04/MONTHLY-WORKSHOPS.png
END:VEVENT
BEGIN:VEVENT
DTSTART;TZID=America/Los_Angeles:20260414T100000
DTEND;TZID=America/Los_Angeles:20260414T110000
DTSTAMP:20260423T052722
CREATED:20260312T235051Z
LAST-MODIFIED:20260313T210919Z
UID:7290-1776160800-1776164400@www.teen-wise.com
SUMMARY:Guest on New Day NW
DESCRIPTION:Join me on New Day NW. We’ll be discussing my new book GIRL DRAMA DECODED\, and why it’s such an important topic.
URL:https://www.teen-wise.com/event/ndnwbook/
CATEGORIES:Featured Event,Parents
ATTACH;FMTTYPE=image/png:https://www.teen-wise.com/wp-content/uploads/2026/03/girl-drama-decoded-book-mockups.png
END:VEVENT
BEGIN:VEVENT
DTSTART;TZID=America/Los_Angeles:20260326T130000
DTEND;TZID=America/Los_Angeles:20260326T134500
DTSTAMP:20260423T052722
CREATED:20260313T191913Z
LAST-MODIFIED:20260324T180828Z
UID:7294-1774530000-1774532700@www.teen-wise.com
SUMMARY:A Conversation about Bullying: supporting and reporting
DESCRIPTION:Join me in our Facebook group for a conversation with Dāli Rivera\, founder of DaliTalks\, about bullying. \n\n\n\n\n\n\n\n\nWhen your daughter struggles with friendship challenges\, it can be hard to know what’s going on. Is it typical girl drama\, or has it crossed the line into bullying? And if it is bullying\, what are the right steps to take? \nIn this conversation\, we will explore the difference between everyday friendship conflict and true bullying. We’ll talk about what bullying actually looks like\, how to support your daughter if she is experiencing it\, and how to report concerns in a thoughtful and effective way. This session is designed to give parents clarity\, practical guidance\, and the confidence to respond in a way that supports their daughter while working constructively with schools and other adults. \n\n\n\n\n\n\n\n\nWe’ll be live in the Facebook group http://facebook.com/groups/theparentinglab \n 
URL:https://www.teen-wise.com/event/bullyingwithdalitalks/
LOCATION:Facebook Group
CATEGORIES:Featured Event,Parents
ATTACH;FMTTYPE=image/png:https://www.teen-wise.com/wp-content/uploads/2026/03/INSTA-for-Presentations.png
END:VEVENT
BEGIN:VEVENT
DTSTART;TZID=America/Los_Angeles:20260319T180000
DTEND;TZID=America/Los_Angeles:20260319T190000
DTSTAMP:20260423T052722
CREATED:20260308T233744Z
LAST-MODIFIED:20260313T210835Z
UID:7272-1773943200-1773946800@www.teen-wise.com
SUMMARY:Holding Space for Identity Exploration
DESCRIPTION:When your daughter begins exploring identity\, many parents feel caught between wanting to be supportive and worrying about saying the wrong thing. \nIn this live parent workshop\, Coach Sheri shares how to stay steady\, curious\, and connected while your daughter navigates questions about identity. You’ll learn how to support exploration without rushing to labels or shutting down important conversations. \nIn this workshop you’ll learn: \n• Why identity exploration is common during adolescence• How to stay supportive even when you feel unsure• The difference between exploration and being defined by labels• Language that keeps conversations open• How curiosity helps protect trust in your relationship \n This workshop is available exclusively for The Mom Wise Collective members. \nMembership required.
URL:https://www.teen-wise.com/event/identity/
CATEGORIES:Featured Event,Parents
ATTACH;FMTTYPE=image/png:https://www.teen-wise.com/wp-content/uploads/2026/03/MONTHLY-WORKSHOPS-2.png
END:VEVENT
BEGIN:VEVENT
DTSTART;TZID=America/Los_Angeles:20260219T180000
DTEND;TZID=America/Los_Angeles:20260219T190000
DTSTAMP:20260423T052722
CREATED:20260125T192113Z
LAST-MODIFIED:20260125T192113Z
UID:7215-1771524000-1771527600@www.teen-wise.com
SUMMARY:Is Your Daughter Getting Love Bombed? When “Kindness” Starts to Feel Controlling
DESCRIPTION:Some teen friendships feel intense right away—constant texting\, instant closeness\, and big emotions that look like deep connection. But sometimes\, that intensity can quietly turn into pressure or control. \nIn this 60-minute live workshop\, Coach Sheri helps parents understand love bombing in teen friendships and early relationships\, and how to respond with calm\, clarity\, and connection—without overreacting or shutting their daughter down. \nIn this workshop\, you’ll learn:\n\n\nWhat love bombing looks like in middle and high school friendships \n\n\nWhy emotional intensity can feel validating while creating pressure \n\n\nThe difference between healthy connection and controlling dynamics \n\n\nHow to talk about red flags without panic\, judgment\, or lectures \n\n\nHow to support your daughter’s autonomy while staying emotionally available \n\n\n✨ Includes a printable workbook and live Q&A (Q&A not recorded). \nRegistration required.
URL:https://www.teen-wise.com/event/love-bombed/
CATEGORIES:Featured Event,Parents
ATTACH;FMTTYPE=image/png:https://www.teen-wise.com/wp-content/uploads/2026/01/MONTHLY-WORKSHOPS.png
END:VEVENT
BEGIN:VEVENT
DTSTART;TZID=America/Los_Angeles:20260205T183000
DTEND;TZID=America/Los_Angeles:20260205T200000
DTSTAMP:20260423T052722
CREATED:20251221T203903Z
LAST-MODIFIED:20251221T203938Z
UID:7156-1770316200-1770321600@www.teen-wise.com
SUMMARY:Mom Circle [PRIVATE]
DESCRIPTION:Private discussion group for you and 10 of your closest friends. \nMom Circles are small\, supportive gatherings for moms of teen girls. Led by Coach Sheri\, founder of Teen Wise\, these guided conversations offer a calm space to connect\, reflect\, and navigate the social and emotional challenges of raising teens. Each circle is cozy\, confidential\, and designed to help moms feel seen\, supported\, and confident. \nIf you’d like to schedule one for you and your friends or for a small group from your organization\, contact impact@teen-wise.com.
URL:https://www.teen-wise.com/event/mc1-2/
CATEGORIES:Parents,Private
ATTACH;FMTTYPE=image/png:https://www.teen-wise.com/wp-content/uploads/2025/12/Mom-Circle-events-graphic.png
END:VEVENT
BEGIN:VEVENT
DTSTART;TZID=America/Los_Angeles:20260129T200000
DTEND;TZID=America/Los_Angeles:20260129T213000
DTSTAMP:20260423T052722
CREATED:20251209T222122Z
LAST-MODIFIED:20260106T204129Z
UID:7138-1769716800-1769722200@www.teen-wise.com
SUMMARY:Mom Circle
DESCRIPTION:Come join us for this fun event at the Redmond EverEve store. Guests will receive 15% off of any EverEve purchases. If you’d like to attend this event or have quesitons\, please RSVP to Neha at impact@teen-wise.com. \nMom Circles are small\, supportive gatherings for moms of teen girls. Led by Sheri Gazitt\, founder of Teen Wise\, these guided conversations offer a calm space to connect\, reflect\, and navigate the social and emotional challenges of raising teens. Each circle is cozy\, confidential\, and designed to help moms feel seen\, supported\, and confident. \nIf you’d like to schedule one for you and your friends or for a small group from your organization\, contact hello@teen-wise.com.
URL:https://www.teen-wise.com/event/mc1/
CATEGORIES:Parents
END:VEVENT
BEGIN:VEVENT
DTSTART;TZID=America/Los_Angeles:20260122T180000
DTEND;TZID=America/Los_Angeles:20260122T190000
DTSTAMP:20260423T052722
CREATED:20251217T231027Z
LAST-MODIFIED:20251221T203755Z
UID:7147-1769104800-1769108400@www.teen-wise.com
SUMMARY:Connection Over Correction: How to Reset the Tone at Home
DESCRIPTION:Theme: Rebuilding calm\, positive communication \nFocus: Shifting from reactive conversations to relationship-focused ones. \nDescription: \nWhy It Matters:After the rush of the holidays\, you might find yourself correcting or nagging more than connecting. This workshop will help you intentionally shift back to warmth\, curiosity\, and understanding\, because connection is what drives real change. And if your daughter is dealing with girl drama or friendship issues\, your supportive connection makes an enormous impact on her mental health. \nKey Points: \n\n\nWhy connection is the foundation for cooperation \n\n\nHow tone and timing shape communication outcomes \n\n\nThe power of curiosity questions vs. lecture statements \n\n\nMicro-connections that rebuild trust and openness
URL:https://www.teen-wise.com/event/connection-over-correction-how-to-reset-the-tone-at-home/
CATEGORIES:Featured Event,Parents
ATTACH;FMTTYPE=image/png:https://www.teen-wise.com/wp-content/uploads/2025/12/January-Workshop.png
END:VEVENT
BEGIN:VEVENT
DTSTART;TZID=America/Los_Angeles:20251216T183000
DTEND;TZID=America/Los_Angeles:20251216T193000
DTSTAMP:20260423T052722
CREATED:20251030T231833Z
LAST-MODIFIED:20251030T231949Z
UID:7016-1765909800-1765913400@www.teen-wise.com
SUMMARY:The Pull of the Crowd: Helping Kids Stand Strong Against Peer Pressure [PRIVATE]
DESCRIPTION:Private presentation.
URL:https://www.teen-wise.com/event/lynnfield/
CATEGORIES:Parents,Private
END:VEVENT
BEGIN:VEVENT
DTSTART;TZID=America/Los_Angeles:20251211T180000
DTEND;TZID=America/Los_Angeles:20251211T190000
DTSTAMP:20260423T052722
CREATED:20251101T224324Z
LAST-MODIFIED:20260106T204327Z
UID:7036-1765476000-1765479600@www.teen-wise.com
SUMMARY:Ask Me Anything- Live Session
DESCRIPTION:Inside the Emotional Spin-Out: How I Help Girls Separate Feelings from FactsAn inside look at the CBT-based method I use to help girls separate feelings from facts.When emotions run high\, girls often mistake feelings for facts. In those moments\, logic shuts down and moms are left wondering how to help without dismissing their daughter’s feelings. Many girls are Olympic-grade overthinkers\, spinning one worry into an entire storyline. In this 30-minute workshop\, Sheri opens a window into the powerful and creative CBT-based process she uses in coaching sessions to help girls slow down their thoughts\, see what’s true\, and regulate their emotions. This understanding helps moms support from a calmer\, more grounded place without getting swept into the spin-out themselves.
URL:https://www.teen-wise.com/event/ask-me-anything/
CATEGORIES:Parents
ATTACH;FMTTYPE=image/png:https://www.teen-wise.com/wp-content/uploads/2025/11/qA.png
END:VEVENT
BEGIN:VEVENT
DTSTART;TZID=America/Los_Angeles:20251128T080000
DTEND;TZID=America/Los_Angeles:20251202T000000
DTSTAMP:20260423T052722
CREATED:20251129T033143Z
LAST-MODIFIED:20260106T204322Z
UID:7104-1764316800-1764633600@www.teen-wise.com
SUMMARY:Black Friday 2025
DESCRIPTION:Our Black Friday Bundle gives moms and daughters simple\, practical tools to handle friendship drama with confidence and calm. Three powerful resources\, one special price — $27 this week only.
URL:https://www.teen-wise.com/event/black-friday-2025/
CATEGORIES:Parents
END:VEVENT
BEGIN:VEVENT
DTSTART;TZID=America/Los_Angeles:20251120T180000
DTEND;TZID=America/Los_Angeles:20251120T190000
DTSTAMP:20260423T052722
CREATED:20251011T151313Z
LAST-MODIFIED:20260106T204318Z
UID:6780-1763661600-1763665200@www.teen-wise.com
SUMMARY:Inside the Emotional Spin-Out! November Live Workshop
DESCRIPTION:Inside the Emotional Spin-Out: How I Help Girls Separate Feelings from FactsAn inside look at the CBT-based method I use to help girls separate feelings from facts.When emotions run high\, girls often mistake feelings for facts. In those moments\, logic shuts down and moms are left wondering how to help without dismissing their daughter’s feelings. Many girls are Olympic-grade overthinkers\, spinning one worry into an entire storyline. In this 30-minute workshop\, Sheri opens a window into the powerful and creative CBT-based process she uses in coaching sessions to help girls slow down their thoughts\, see what’s true\, and regulate their emotions. This understanding helps moms support from a calmer\, more grounded place without getting swept into the spin-out themselves.
URL:https://www.teen-wise.com/event/inside-the-emotional-spin-out/
CATEGORIES:Parents
ATTACH;FMTTYPE=image/png:https://www.teen-wise.com/wp-content/uploads/2025/10/November-Workshop.png
END:VEVENT
BEGIN:VEVENT
DTSTART;TZID=America/Los_Angeles:20251023T183000
DTEND;TZID=America/Los_Angeles:20251023T193000
DTSTAMP:20260423T052722
CREATED:20251011T151548Z
LAST-MODIFIED:20251030T232336Z
UID:6782-1761244200-1761247800@www.teen-wise.com
SUMMARY:Beyond Loneliness: Helping Kids Build Belonging in a Disconnected World [PRIVATE]
DESCRIPTION:Loneliness is rising even among kids and teens who appear surrounded by people. This presentation helps parents recognize the hidden signs of social disconnection and understand what’s really going on beneath the surface. Parents will gain practical strategies to help their kids build real friendships\, reach out when they feel isolated\, and develop a stronger sense of belonging. We’ll also explore how true connection acts as a protective factor—reducing the risks of substance abuse and other harmful coping behaviors. A powerful session for any parent who wants to strengthen family bonds and help their kids feel seen\, valued\, and connected. Information Covered:· Spot the hidden signs· Understand connection as prevention· Strengthen family bonds· Support positive peer relationships· Guide kids to reach out
URL:https://www.teen-wise.com/event/private-beyond-loneliness-oct25/
CATEGORIES:Parents,Private
END:VEVENT
BEGIN:VEVENT
DTSTART;TZID=America/Los_Angeles:20251023T180000
DTEND;TZID=America/Los_Angeles:20251023T190000
DTSTAMP:20260423T052722
CREATED:20251011T151159Z
LAST-MODIFIED:20251024T191439Z
UID:6777-1761242400-1761246000@www.teen-wise.com
SUMMARY:It's Too Hard! October Live Workshop
DESCRIPTION:Learn how your daughter’s limiting beliefs may be holding her back. \nRegister at https://be.teen-wise.com/itstoohard \n 
URL:https://www.teen-wise.com/event/its-too-hard-october-live-workshop/
CATEGORIES:Parents
ATTACH;FMTTYPE=image/png:https://www.teen-wise.com/wp-content/uploads/2025/10/October-Workshop.png
END:VEVENT
END:VCALENDAR