BEGIN:VCALENDAR
VERSION:2.0
PRODID:-//Teen Wise - ECPv6.15.20//NONSGML v1.0//EN
CALSCALE:GREGORIAN
METHOD:PUBLISH
X-WR-CALNAME:Teen Wise
X-ORIGINAL-URL:https://www.teen-wise.com
X-WR-CALDESC:Events for Teen Wise
REFRESH-INTERVAL;VALUE=DURATION:PT1H
X-Robots-Tag:noindex
X-PUBLISHED-TTL:PT1H
BEGIN:VTIMEZONE
TZID:America/Los_Angeles
BEGIN:DAYLIGHT
TZOFFSETFROM:-0800
TZOFFSETTO:-0700
TZNAME:PDT
DTSTART:20240310T100000
END:DAYLIGHT
BEGIN:STANDARD
TZOFFSETFROM:-0700
TZOFFSETTO:-0800
TZNAME:PST
DTSTART:20241103T090000
END:STANDARD
BEGIN:DAYLIGHT
TZOFFSETFROM:-0800
TZOFFSETTO:-0700
TZNAME:PDT
DTSTART:20250309T100000
END:DAYLIGHT
BEGIN:STANDARD
TZOFFSETFROM:-0700
TZOFFSETTO:-0800
TZNAME:PST
DTSTART:20251102T090000
END:STANDARD
BEGIN:DAYLIGHT
TZOFFSETFROM:-0800
TZOFFSETTO:-0700
TZNAME:PDT
DTSTART:20260308T100000
END:DAYLIGHT
BEGIN:STANDARD
TZOFFSETFROM:-0700
TZOFFSETTO:-0800
TZNAME:PST
DTSTART:20261101T090000
END:STANDARD
BEGIN:DAYLIGHT
TZOFFSETFROM:-0800
TZOFFSETTO:-0700
TZNAME:PDT
DTSTART:20270314T100000
END:DAYLIGHT
BEGIN:STANDARD
TZOFFSETFROM:-0700
TZOFFSETTO:-0800
TZNAME:PST
DTSTART:20271107T090000
END:STANDARD
END:VTIMEZONE
BEGIN:VEVENT
DTSTART;TZID=America/Los_Angeles:20260205T183000
DTEND;TZID=America/Los_Angeles:20260205T200000
DTSTAMP:20260423T095040
CREATED:20251221T203903Z
LAST-MODIFIED:20251221T203938Z
UID:7156-1770316200-1770321600@www.teen-wise.com
SUMMARY:Mom Circle [PRIVATE]
DESCRIPTION:Private discussion group for you and 10 of your closest friends. \nMom Circles are small\, supportive gatherings for moms of teen girls. Led by Coach Sheri\, founder of Teen Wise\, these guided conversations offer a calm space to connect\, reflect\, and navigate the social and emotional challenges of raising teens. Each circle is cozy\, confidential\, and designed to help moms feel seen\, supported\, and confident. \nIf you’d like to schedule one for you and your friends or for a small group from your organization\, contact impact@teen-wise.com.
URL:https://www.teen-wise.com/event/mc1-2/
CATEGORIES:Parents,Private
ATTACH;FMTTYPE=image/png:https://www.teen-wise.com/wp-content/uploads/2025/12/Mom-Circle-events-graphic.png
END:VEVENT
BEGIN:VEVENT
DTSTART;TZID=America/Los_Angeles:20251216T183000
DTEND;TZID=America/Los_Angeles:20251216T193000
DTSTAMP:20260423T095040
CREATED:20251030T231833Z
LAST-MODIFIED:20251030T231949Z
UID:7016-1765909800-1765913400@www.teen-wise.com
SUMMARY:The Pull of the Crowd: Helping Kids Stand Strong Against Peer Pressure [PRIVATE]
DESCRIPTION:Private presentation.
URL:https://www.teen-wise.com/event/lynnfield/
CATEGORIES:Parents,Private
END:VEVENT
BEGIN:VEVENT
DTSTART;TZID=America/Los_Angeles:20251023T183000
DTEND;TZID=America/Los_Angeles:20251023T193000
DTSTAMP:20260423T095040
CREATED:20251011T151548Z
LAST-MODIFIED:20251030T232336Z
UID:6782-1761244200-1761247800@www.teen-wise.com
SUMMARY:Beyond Loneliness: Helping Kids Build Belonging in a Disconnected World [PRIVATE]
DESCRIPTION:Loneliness is rising even among kids and teens who appear surrounded by people. This presentation helps parents recognize the hidden signs of social disconnection and understand what’s really going on beneath the surface. Parents will gain practical strategies to help their kids build real friendships\, reach out when they feel isolated\, and develop a stronger sense of belonging. We’ll also explore how true connection acts as a protective factor—reducing the risks of substance abuse and other harmful coping behaviors. A powerful session for any parent who wants to strengthen family bonds and help their kids feel seen\, valued\, and connected. Information Covered:· Spot the hidden signs· Understand connection as prevention· Strengthen family bonds· Support positive peer relationships· Guide kids to reach out
URL:https://www.teen-wise.com/event/private-beyond-loneliness-oct25/
CATEGORIES:Parents,Private
END:VEVENT
END:VCALENDAR