BEGIN:VCALENDAR
VERSION:2.0
PRODID:-//Teen Wise - ECPv6.15.20//NONSGML v1.0//EN
CALSCALE:GREGORIAN
METHOD:PUBLISH
X-WR-CALNAME:Teen Wise
X-ORIGINAL-URL:https://www.teen-wise.com
X-WR-CALDESC:Events for Teen Wise
REFRESH-INTERVAL;VALUE=DURATION:PT1H
X-Robots-Tag:noindex
X-PUBLISHED-TTL:PT1H
BEGIN:VTIMEZONE
TZID:America/Los_Angeles
BEGIN:DAYLIGHT
TZOFFSETFROM:-0800
TZOFFSETTO:-0700
TZNAME:PDT
DTSTART:20250309T100000
END:DAYLIGHT
BEGIN:STANDARD
TZOFFSETFROM:-0700
TZOFFSETTO:-0800
TZNAME:PST
DTSTART:20251102T090000
END:STANDARD
BEGIN:DAYLIGHT
TZOFFSETFROM:-0800
TZOFFSETTO:-0700
TZNAME:PDT
DTSTART:20260308T100000
END:DAYLIGHT
BEGIN:STANDARD
TZOFFSETFROM:-0700
TZOFFSETTO:-0800
TZNAME:PST
DTSTART:20261101T090000
END:STANDARD
BEGIN:DAYLIGHT
TZOFFSETFROM:-0800
TZOFFSETTO:-0700
TZNAME:PDT
DTSTART:20270314T100000
END:DAYLIGHT
BEGIN:STANDARD
TZOFFSETFROM:-0700
TZOFFSETTO:-0800
TZNAME:PST
DTSTART:20271107T090000
END:STANDARD
END:VTIMEZONE
BEGIN:VEVENT
DTSTART;TZID=America/Los_Angeles:20260423T183000
DTEND;TZID=America/Los_Angeles:20260423T200000
DTSTAMP:20260423T082102
CREATED:20260120T200003Z
LAST-MODIFIED:20260313T211048Z
UID:7092-1776969000-1776974400@www.teen-wise.com
SUMMARY:Beyond Loneliness: creating connection in a disconnected world [PRIVATE]
DESCRIPTION:Private presentation. \nThe Beyond Loneliness presentation gives parents practical insight into how today’s digital world quietly fuels disconnection and what teens truly need to feel seen\, supported\, and emotionally safe. Sheri guides families through the roots of loneliness\, the impact of online life on real belonging\, and the small daily practices that help teens build strong\, healthy connections. It’s an encouraging look at how parents can strengthen their relationship with their kids and help them create the meaningful friendships they crave.
URL:https://www.teen-wise.com/event/loneliness/
CATEGORIES:Parents,Private
END:VEVENT
END:VCALENDAR